BEGIN:VCALENDAR
VERSION:2.0
PRODID:-//eventon.com NONSGML v1.0//EN
CALSCALE:GREGORIAN
METHOD:PUBLISH
BEGIN:VEVENT
UID:69eb518412ae4
DTSTAMP:20260424T111828Z
DTSTART:20261211T170000Z
DTEND:20261213T110000Z
LOCATION:Senec Kysucká 14\,  Senec\,  SLOVAKIA
SUMMARY:Senec Seminar
DESCRIPTION:Senec Seminar\nhttps://www.eurasiaaikido.org/events/senec-20261
 2/
URL:https://www.eurasiaaikido.org/events/senec-202612/
END:VEVENT
END:VCALENDAR