BEGIN:VCALENDAR
VERSION:2.0
PRODID:-//eventon.com NONSGML v1.0//EN
CALSCALE:GREGORIAN
METHOD:PUBLISH
BEGIN:VEVENT
UID:69eb8ec740f18
DTSTAMP:20260424T153951Z
DTSTART:20260501T080000Z
DTEND:20260503T100000Z
LOCATION:Moldova Seminar
SUMMARY:Moldova Seminar
DESCRIPTION:Moldova Seminar\nhttps://www.eurasiaaikido.org/events/moldova-2
 026/
URL:https://www.eurasiaaikido.org/events/moldova-2026/
END:VEVENT
END:VCALENDAR