BEGIN:VCALENDAR
VERSION:2.0
PRODID:-//eventon.com NONSGML v1.0//EN
CALSCALE:GREGORIAN
METHOD:PUBLISH
BEGIN:VEVENT
UID:69eb5126be72b
DTSTAMP:20260424T111654Z
DTSTART:20261127T153200Z
DTEND:20261129T153200Z
LOCATION:Azerbaijan Republic Judo Club 2012 Public Union Shamil Azizbeyov\,  Baku 1009\,  Aserbaidschan
SUMMARY:Baku Seminar
DESCRIPTION:Baku Seminar\nhttps://www.eurasiaaikido.org/events/baku-202611/
URL:https://www.eurasiaaikido.org/events/baku-202611/
END:VEVENT
END:VCALENDAR