BEGIN:VCALENDAR
VERSION:2.0
PRODID:-//eventon.com NONSGML v1.0//EN
CALSCALE:GREGORIAN
METHOD:PUBLISH
BEGIN:VEVENT
UID:69eb943b2a40e
DTSTAMP:20260424T160307Z
DTSTART:20261120T090000Z
DTEND:20261122T110000Z
LOCATION:Vendome
SUMMARY:Vendome Seminar
DESCRIPTION:Vendome Seminar\nhttps://www.eurasiaaikido.org/events/vendome-2
 02611/
URL:https://www.eurasiaaikido.org/events/vendome-202611/
END:VEVENT
END:VCALENDAR