BEGIN:VCALENDAR
VERSION:2.0
PRODID:-//eventon.com NONSGML v1.0//EN
CALSCALE:GREGORIAN
METHOD:PUBLISH
BEGIN:VEVENT
UID:69eb51c895d96
DTSTAMP:20260424T111936Z
DTSTART:20261113T160000Z
DTEND:20261115T100000Z
LOCATION:Ruse Ruse
SUMMARY:Ruse Seminar
DESCRIPTION:Ruse Seminar\nhttps://www.eurasiaaikido.org/events/ruse-202611/
URL:https://www.eurasiaaikido.org/events/ruse-202611/
END:VEVENT
END:VCALENDAR