BEGIN:VCALENDAR
VERSION:2.0
PRODID:-//eventon.com NONSGML v1.0//EN
CALSCALE:GREGORIAN
METHOD:PUBLISH
BEGIN:VEVENT
UID:69eb8e24c9f9b
DTSTAMP:20260424T153708Z
DTSTART:20261106T070000Z
DTEND:20261108T090000Z
LOCATION:Istanbul (To Be Determined)
SUMMARY:Istanbul Seminar
DESCRIPTION:Istanbul Seminar\nhttps://www.eurasiaaikido.org/events/istanbul
 -202611/
URL:https://www.eurasiaaikido.org/events/istanbul-202611/
END:VEVENT
END:VCALENDAR