BEGIN:VCALENDAR
VERSION:2.0
PRODID:-//eventon.com NONSGML v1.0//EN
CALSCALE:GREGORIAN
METHOD:PUBLISH
BEGIN:VEVENT
UID:69eb5117520eb
DTSTAMP:20260424T111639Z
DTSTART:20261030T170000Z
DTEND:20261101T110000Z
LOCATION:Brno Seminar Brno\,  Czech Republic
SUMMARY:Brno Seminar
DESCRIPTION:Brno Seminar\nhttps://www.eurasiaaikido.org/events/brno-202610/
URL:https://www.eurasiaaikido.org/events/brno-202610/
END:VEVENT
END:VCALENDAR