BEGIN:VCALENDAR
VERSION:2.0
PRODID:-//eventon.com NONSGML v1.0//EN
CALSCALE:GREGORIAN
METHOD:PUBLISH
BEGIN:VEVENT
UID:69eb5178a6d86
DTSTAMP:20260424T111816Z
DTSTART:20261023T160000Z
DTEND:20261025T110000Z
LOCATION:Ziolena Gora
SUMMARY:Ziolena Gora Poland Seminar
DESCRIPTION:Ziolena Gora Poland Seminar\nhttps://www.eurasiaaikido.org/even
 ts/ziolena-gora-poland-202610/
URL:https://www.eurasiaaikido.org/events/ziolena-gora-poland-202610/
END:VEVENT
END:VCALENDAR