BEGIN:VCALENDAR
VERSION:2.0
PRODID:-//eventon.com NONSGML v1.0//EN
CALSCALE:GREGORIAN
METHOD:PUBLISH
BEGIN:VEVENT
UID:69eb5178a6096
DTSTAMP:20260424T111816Z
DTSTART:20261016T170000Z
DTEND:20261018T110000Z
LOCATION:Cambridge
SUMMARY:Cambridge Seminar
DESCRIPTION:Cambridge Seminar\nhttps://www.eurasiaaikido.org/events/cambrid
 ge-202610/
URL:https://www.eurasiaaikido.org/events/cambridge-202610/
END:VEVENT
END:VCALENDAR