BEGIN:VCALENDAR
VERSION:2.0
PRODID:-//eventon.com NONSGML v1.0//EN
CALSCALE:GREGORIAN
METHOD:PUBLISH
BEGIN:VEVENT
UID:69eb5127b7ec6
DTSTAMP:20260424T111655Z
DTSTART:20261009T070000Z
DTEND:20261011T090000Z
LOCATION:Malatya
SUMMARY:Malatya Semineri
DESCRIPTION:Malatya Semineri\nhttps://www.eurasiaaikido.org/events/malatya-
 202610/
URL:https://www.eurasiaaikido.org/events/malatya-202610/
END:VEVENT
END:VCALENDAR