BEGIN:VCALENDAR
VERSION:2.0
PRODID:-//eventon.com NONSGML v1.0//EN
CALSCALE:GREGORIAN
METHOD:PUBLISH
BEGIN:VEVENT
UID:69eb516730fe1
DTSTAMP:20260424T111759Z
DTSTART:20261002T080000Z
DTEND:20261004T100000Z
LOCATION:Gien Intercommunal Dojo\,  Rue Jean Mermoz
SUMMARY:Gien Seminar
DESCRIPTION:Gien Seminar\nhttps://www.eurasiaaikido.org/events/gien-202610/
URL:https://www.eurasiaaikido.org/events/gien-202610/
END:VEVENT
END:VCALENDAR