BEGIN:VCALENDAR
VERSION:2.0
PRODID:-//eventon.com NONSGML v1.0//EN
CALSCALE:GREGORIAN
METHOD:PUBLISH
BEGIN:VEVENT
UID:69eb5117ca4e0
DTSTAMP:20260424T111639Z
DTSTART:20260925T150000Z
DTEND:20260927T090000Z
LOCATION:Kiev Ukraine
SUMMARY:Ukraine Seminar
DESCRIPTION:Place to be defined\nhttps://www.eurasiaaikido.org/events/ukrai
 ne-202609/
URL:https://www.eurasiaaikido.org/events/ukraine-202609/
END:VEVENT
END:VCALENDAR