BEGIN:VCALENDAR
VERSION:2.0
PRODID:-//eventon.com NONSGML v1.0//EN
CALSCALE:GREGORIAN
METHOD:PUBLISH
BEGIN:VEVENT
UID:69eb93153142f
DTSTAMP:20260424T155813Z
DTSTART:20260918T080000Z
DTEND:20260920T100000Z
LOCATION:Toulouse Toulouse France
SUMMARY:Toulouse Seminar
DESCRIPTION:\nhttps://www.eurasiaaikido.org/events/toulouse-202609/
URL:https://www.eurasiaaikido.org/events/toulouse-202609/
END:VEVENT
END:VCALENDAR