BEGIN:VCALENDAR
VERSION:2.0
PRODID:-//eventon.com NONSGML v1.0//EN
CALSCALE:GREGORIAN
METHOD:PUBLISH
BEGIN:VEVENT
UID:69eb517f09244
DTSTAMP:20260424T111823Z
DTSTART:20260904T150000Z
DTEND:20260906T090000Z
LOCATION:Ruse Ruse
SUMMARY:Ruse Instructor Seminar
DESCRIPTION:Ruse Instructor Seminar\nhttps://www.eurasiaaikido.org/events/r
 use-instructor-202609/
URL:https://www.eurasiaaikido.org/events/ruse-instructor-202609/
END:VEVENT
END:VCALENDAR