BEGIN:VCALENDAR
VERSION:2.0
PRODID:-//eventon.com NONSGML v1.0//EN
CALSCALE:GREGORIAN
METHOD:PUBLISH
BEGIN:VEVENT
UID:69eb51cb68508
DTSTAMP:20260424T111939Z
DTSTART:20260611T140000Z
DTEND:20260614T080000Z
LOCATION:Gence\,  Azerbeycan
SUMMARY:Gence Seminar
DESCRIPTION:Gence Seminar\nhttps://www.eurasiaaikido.org/events/gence-20260
 6/
URL:https://www.eurasiaaikido.org/events/gence-202606/
END:VEVENT
END:VCALENDAR