BEGIN:VCALENDAR
VERSION:2.0
PRODID:-//eventon.com NONSGML v1.0//EN
CALSCALE:GREGORIAN
METHOD:PUBLISH
BEGIN:VEVENT
UID:69eb51792f10d
DTSTAMP:20260424T111817Z
DTSTART:20260605T160000Z
DTEND:20260607T100000Z
LOCATION:Cheb Hradebni 14\,  4. zds (elementary school)
SUMMARY:Cheb Seminar
DESCRIPTION:Cheb Seminar\nhttps://www.eurasiaaikido.org/events/cheb-202606/
URL:https://www.eurasiaaikido.org/events/cheb-202606/
END:VEVENT
END:VCALENDAR