BEGIN:VCALENDAR
VERSION:2.0
PRODID:-//eventon.com NONSGML v1.0//EN
CALSCALE:GREGORIAN
METHOD:PUBLISH
BEGIN:VEVENT
UID:69eb51c801506
DTSTAMP:20260424T111936Z
DTSTART:20260530T080000Z
DTEND:20260531T100000Z
LOCATION:Zenshin Aikido
SUMMARY:Amsterdam Seminar
DESCRIPTION:Amsterdam Seminar\nhttps://www.eurasiaaikido.org/events/amsterd
 am-202605/
URL:https://www.eurasiaaikido.org/events/amsterdam-202605/
END:VEVENT
END:VCALENDAR