BEGIN:VCALENDAR
VERSION:2.0
PRODID:-//eventon.com NONSGML v1.0//EN
CALSCALE:GREGORIAN
METHOD:PUBLISH
BEGIN:VEVENT
UID:69eb8eb6c8b1a
DTSTAMP:20260424T153934Z
DTSTART:20260513T070000Z
DTEND:20260517T090000Z
LOCATION:Ankara Üniversiteler Mah. ODTÜ Baraka Spor Salonu Minderli Salon
SUMMARY:14th International Aikido Festival
DESCRIPTION:14th International Aikido Festival\nhttps://www.eurasiaaikido.o
 rg/events/14th-international-aikido-festival/
URL:https://www.eurasiaaikido.org/events/14th-international-aikido-festival/
END:VEVENT
END:VCALENDAR