BEGIN:VCALENDAR
VERSION:2.0
PRODID:-//eventon.com NONSGML v1.0//EN
CALSCALE:GREGORIAN
METHOD:PUBLISH
BEGIN:VEVENT
UID:69eb92b154e86
DTSTAMP:20260424T155633Z
DTSTART:20260124T090000Z
DTEND:20260125T110000Z
LOCATION:Dokan Aikido Rue d'Amboise (651\, 60 km) 37300
SUMMARY:Tours Seminar
DESCRIPTION:Tours Seminar\nhttps://www.eurasiaaikido.org/events/tours-20260
 1/
URL:https://www.eurasiaaikido.org/events/tours-202601/
END:VEVENT
END:VCALENDAR