BEGIN:VCALENDAR
VERSION:2.0
PRODID:-//eventon.com NONSGML v1.0//EN
CALSCALE:GREGORIAN
METHOD:PUBLISH
BEGIN:VEVENT
UID:69eb8e93027c5
DTSTAMP:20260424T153859Z
DTSTART:20251217T070000Z
DTEND:20251221T090000Z
LOCATION:Ankara Üniversiteler Mah. ODTÜ Baraka Spor Salonu Minderli Salon
SUMMARY:Ankara Seminar
DESCRIPTION:Ankara Seminar\nhttps://www.eurasiaaikido.org/events/ankara-sem
 inar-202512/
URL:https://www.eurasiaaikido.org/events/ankara-seminar-202512/
END:VEVENT
END:VCALENDAR