BEGIN:VCALENDAR
VERSION:2.0
PRODID:-//eventon.com NONSGML v1.0//EN
CALSCALE:GREGORIAN
METHOD:PUBLISH
BEGIN:VEVENT
UID:69eb942067be7
DTSTAMP:20260424T160240Z
DTSTART:20251121T090000Z
DTEND:20251123T110000Z
LOCATION:Vendome
SUMMARY:Vendome Seminar
DESCRIPTION:Vendome Seminar\nhttps://www.eurasiaaikido.org/events/vendome-s
 eminar-202511/
URL:https://www.eurasiaaikido.org/events/vendome-seminar-202511/
END:VEVENT
END:VCALENDAR